BEGIN:VCALENDAR
VERSION:2.0
PRODID:-//Generations Church - ECPv4.6//NONSGML v1.0//EN
CALSCALE:GREGORIAN
METHOD:PUBLISH
X-WR-CALNAME:Generations Church
X-ORIGINAL-URL:https://wearegenerations.church
X-WR-CALDESC:Events for Generations Church
BEGIN:VEVENT
DTSTART;TZID=America/Denver:20211107T090000
DTEND;TZID=America/Denver:20211107T190000
DTSTAMP:20260421T143355
CREATED:20211025T190115Z
LAST-MODIFIED:20211025T190115Z
UID:14045-1636275600-1636311600@wearegenerations.church
SUMMARY:Guest Speaker - Lisette Fraser
DESCRIPTION:We’re thrilled to welcome Lisette Fraser from Hillsong Atlanta on Sunday\, November 7th at all of our worship experiences.\n\nShe’ll share an encouraging message about the doors that open when we say ‘yes’ to God\, and challenge each of us to take a courageous next step\, for the sake of another.\nLisette is a leader\, pastor\, communicator and coach. She leads\, advocates and inspires others to move towards God’s absolute best for them. Born in the Netherlands\, Lisette immigrated to Canada as a young girl.\n\nLisette credits her family’s work ethic\, grit\, authenticity and love of celebrating for how she lives\, loves and leads. She is characterized by her warmth\, genuineness and strategic mind.\n
URL:https://wearegenerations.church/event/guest-speaker-lisette-fraser/
LOCATION:3600 W 22nd St\, Greeley\, CO\, 80634\, United States
CATEGORIES:All Church,Community
ATTACH;FMTTYPE=image/jpeg:https://wearegenerations.church/wp-content/uploads/2021/10/247323105_10158073017526837_2098411183026612221_n.jpg
END:VEVENT
END:VCALENDAR