BEGIN:VCALENDAR
VERSION:2.0
PRODID:-//Generations Church - ECPv4.6//NONSGML v1.0//EN
CALSCALE:GREGORIAN
METHOD:PUBLISH
X-WR-CALNAME:Generations Church
X-ORIGINAL-URL:https://wearegenerations.church
X-WR-CALDESC:Events for Generations Church
BEGIN:VEVENT
DTSTART;TZID=America/Denver:20230101T103000
DTEND;TZID=America/Denver:20230101T113000
DTSTAMP:20260421T095836
CREATED:20221221T173921Z
LAST-MODIFIED:20221221T173921Z
UID:15168-1672569000-1672572600@wearegenerations.church
SUMMARY:January 1st - Greeley Combined Service
DESCRIPTION:On Sunday\, January 1\, we’ll have one combined service in Greeley at 10:30am with breakfast and some time to hang out in the lobby beginning at 9:30am.  Come early and spend a little time celebrating the start of the New Year. \nOur Online Campus and Windsor Campus will meet at their regularly scheduled times (Online: 9:30am\, Windsor: 6:00pm). \n
URL:https://wearegenerations.church/event/january-1st-greeley-combined-service/
LOCATION:3600 W 22nd St\, Greeley\, CO\, 80634\, United States
CATEGORIES:All Church,Community
ATTACH;FMTTYPE=image/jpeg:https://wearegenerations.church/wp-content/uploads/2022/12/jan1st-slide.jpg
END:VEVENT
END:VCALENDAR