BEGIN:VCALENDAR
VERSION:2.0
PRODID:-//Generations Church - ECPv4.6//NONSGML v1.0//EN
CALSCALE:GREGORIAN
METHOD:PUBLISH
X-WR-CALNAME:Generations Church
X-ORIGINAL-URL:https://wearegenerations.church
X-WR-CALDESC:Events for Generations Church
BEGIN:VEVENT
DTSTART;TZID=America/Denver:20171105T090000
DTEND;TZID=America/Denver:20171105T113000
DTSTAMP:20260421T095200
CREATED:20170927T151909Z
LAST-MODIFIED:20170927T151909Z
UID:987-1509872400-1509881400@wearegenerations.church
SUMMARY:Matthew Deprez - Guest Speaker
DESCRIPTION:Matthew Deprez has devoted his career to helping the Church connect generationally\, intentionally leveraging one generation for the good of another. He is the Church Engagement Specialist at the Fuller Youth Institute\, a research organization that’s committed to conducting research and creating resources that help young people fall in love with Jesus and the Church. \nMatthew speaks internationally at colleges\, conferences\, and churches and has over 12 years of pastoral ministry experience as an ordained minister in the Wesleyan Church. He is the author\, or coauthor\, of multiple books\, including Join Generations: Becoming Unashamedly Intergenerational\, which is used as curriculum in multiple colleges and universities across North America. Matthew lives in Grand Rapids\, MI\, with his wife\, Megan\, and their two adopted sons\, Isaiah and Silas. \n
URL:https://wearegenerations.church/event/matthew-deprez-guest-speaker/
LOCATION:3600 W 22nd St\, Greeley\, CO\, 80634\, United States
CATEGORIES:All Church,Community
ATTACH;FMTTYPE=image/jpeg:https://wearegenerations.church/wp-content/uploads/2017/09/matthew-deprez_event.jpg
END:VEVENT
END:VCALENDAR