BEGIN:VCALENDAR
VERSION:2.0
PRODID:-//Generations Church - ECPv4.6//NONSGML v1.0//EN
CALSCALE:GREGORIAN
METHOD:PUBLISH
X-WR-CALNAME:Generations Church
X-ORIGINAL-URL:https://wearegenerations.church
X-WR-CALDESC:Events for Generations Church
BEGIN:VEVENT
DTSTART;TZID=America/Denver:20211106T100000
DTEND;TZID=America/Denver:20211106T170000
DTSTAMP:20260421T161415
CREATED:20210920T191202Z
LAST-MODIFIED:20210920T191202Z
UID:13973-1636192800-1636218000@wearegenerations.church
SUMMARY:Refresh - Women's Conference
DESCRIPTION:God is ready to meet you at the Refresh Women’s Conference this November. Our desire for this day is that you would leave deeply refreshed and connected to the Holy Spirit. Renewed in your walk with Jesus. Awakened to God’s identity\, belonging and purpose in your life. Empowered to live without fear. Inspired to intentionally connect with those in your family\, your church and your community. \nWhether you’re in a healthy spot and need an opportunity to connect with other women at Generations\, grow in your faith journey\, gain clarity in the midst of the busyness of life\, or simply get some time away from your kids\, Refresh is for you. Or\, maybe you’re in a more difficult spot in life and need healing from brokenness\, disappointment\, disconnection\, fear\, and isolation\, Refresh is for you as well. \nREFRESH FOR THE JOURNEY. REFRESH YOUR WALK. REFRESH FOR CONNECTION. REFRESH TO CONNECT. REFRESH FOR RELATIONSHIPS. REFRESH FOR GROWTH. REFRESH TO RELATE. \n  \nLearn more and register here. \n
URL:https://wearegenerations.church/event/refresh-womens-conference/
LOCATION:3600 W 22nd St\, Greeley\, CO\, 80634\, United States
CATEGORIES:All Church,Community
ATTACH;FMTTYPE=image/jpeg:https://wearegenerations.church/wp-content/uploads/2021/09/refresh-conf-eventbrite.jpg
END:VEVENT
END:VCALENDAR