BEGIN:VCALENDAR
VERSION:2.0
PRODID:-//Generations Church - ECPv4.6//NONSGML v1.0//EN
CALSCALE:GREGORIAN
METHOD:PUBLISH
X-WR-CALNAME:Generations Church
X-ORIGINAL-URL:https://wearegenerations.church
X-WR-CALDESC:Events for Generations Church
BEGIN:VEVENT
DTSTART;VALUE=DATE:20230108
DTEND;VALUE=DATE:20230212
DTSTAMP:20260421T081133
CREATED:20230108T030411Z
LAST-MODIFIED:20230202T175610Z
UID:15185-1673136000-1676246399@wearegenerations.church
SUMMARY:Rhythms - Teaching Series
DESCRIPTION:Your habits define your life’s direction. So what does it take to build a sustainable life of purpose?\n\nJesus modeled a set of spiritual habits that as Christ followers\, we can aspire to live out. We call them Rhythms\, and we believe that a commitment to growth in these areas can be transformative for your life.\n\nJoin us Sundays for Rhythms\, a new teaching series.\n\nGreeley Campus // 9:00 & 10:30am\nOnline Campus // 9:30am\nWindsor Campus // 6:00pm\n
URL:https://wearegenerations.church/event/rhythms-teaching-series/
LOCATION:3600 W 22nd St\, Greeley\, CO\, 80634\, United States
CATEGORIES:All Church,Community
ATTACH;FMTTYPE=image/jpeg:https://wearegenerations.church/wp-content/uploads/2023/01/rhythms-title-slide.jpg
END:VEVENT
END:VCALENDAR