BEGIN:VCALENDAR
VERSION:2.0
PRODID:-//Generations Church - ECPv4.6//NONSGML v1.0//EN
CALSCALE:GREGORIAN
METHOD:PUBLISH
X-WR-CALNAME:Generations Church
X-ORIGINAL-URL:https://wearegenerations.church
X-WR-CALDESC:Events for Generations Church
BEGIN:VEVENT
DTSTART;TZID=America/Denver:20190605T183000
DTEND;TZID=America/Denver:20190605T200000
DTSTAMP:20260421T081611
CREATED:20180521T173150Z
LAST-MODIFIED:20190603T155645Z
UID:8925-1559759400-1559764800@wearegenerations.church
SUMMARY:Youth Summer Kickoff
DESCRIPTION:Wednesday at 6:30PM | Greeley Campus | All teens invited! \nWe’ll kickoff summer with BBQ\, 9 Square in the Air\, Volleyball\, Arrow Tag\, and more (waiver for Arrow Tag required: wearegenerations.church/youth).\nIncoming 6th grade Pizza Party before\, at 6:00PM in Room 213. \n
URL:https://wearegenerations.church/event/youth-summer-party/
LOCATION:3600 W 22nd St\, Greeley\, CO\, 80634\, United States
CATEGORIES:Youth
END:VEVENT
END:VCALENDAR