BEGIN:VCALENDAR
VERSION:2.0
PRODID:-//Generations Church - ECPv4.6//NONSGML v1.0//EN
CALSCALE:GREGORIAN
METHOD:PUBLISH
X-WR-CALNAME:Generations Church
X-ORIGINAL-URL:https://wearegenerations.church
X-WR-CALDESC:Events for Generations Church
BEGIN:VEVENT
DTSTART;TZID=America/Denver:20260412T103000
DTEND;TZID=America/Denver:20260426T113000
DTSTAMP:20260424T121502
CREATED:20250811T180337Z
LAST-MODIFIED:20260326T225044Z
UID:17435-1775989800-1777203000@wearegenerations.church
SUMMARY:Connections Group
DESCRIPTION:Sunday worship experiences are a great first step\, but real growth happens when you move beyond content and step into connection. That’s where this group comes in. It is designed to help you find belonging\, not just attend a service. We’re creating space for people to connect deeply with God and with each other. \nThis three week group meets on Sunday mornings at 10:30am\, starting April 12th.  We believe so deeply in the need for community over content that if you need to skip Sunday services for a few weeks to attend\, we’re with you! \nIf you’ve got kids\, you can check them into our gKids experience\, and they’ll have an awesome time learning about Jesus while you’re freed up to connect with others. \nIf you’ve felt like something’s missing\, it might not be that you need more content\, it might be that you need to step into finding real connection with others. Sign up today\, and start the journey toward being known\, valued\, and rooted in authentic community. \nSign up online here. \n
URL:https://wearegenerations.church/event/connections-group/
LOCATION:3600 W 22nd St\, Greeley\, CO\, 80634\, United States
CATEGORIES:All Church
ATTACH;FMTTYPE=image/jpeg:https://wearegenerations.church/wp-content/uploads/2025/08/april-connections-group.jpg
END:VEVENT
BEGIN:VEVENT
DTSTART;TZID=America/Denver:20260426T090000
DTEND;TZID=America/Denver:20260426T170000
DTSTAMP:20260424T121502
CREATED:20250417T192411Z
LAST-MODIFIED:20260413T180724Z
UID:17078-1777194000-1777222800@wearegenerations.church
SUMMARY:Farm Fest 2026
DESCRIPTION:Button up your flannel\, strap up the belt buckle\, and get ready for Farm Fest 2026!\n\nWe’re going all out this year\, and you don’t want to miss it. Seriously. \n• Food Trucks [𝘣𝘳𝘪𝘯𝘨 𝘴𝘰𝘮𝘦 $$]\n• Family Games [𝘧𝘳𝘰𝘮 𝘍𝘳𝘪𝘵𝘻𝘭𝘦𝘳 𝘍𝘢𝘳𝘮 𝘗𝘢𝘳𝘬]\n• Tractors [𝘧𝘳𝘰𝘮 𝘏𝘶𝘯𝘨𝘦𝘯𝘣𝘦𝘳𝘨 𝘗𝘳𝘰𝘥𝘶𝘤𝘦 𝘢𝘯𝘥 𝘚𝘵𝘳𝘰𝘩𝘢𝘶𝘦𝘳 𝘍𝘢𝘳𝘮𝘴]\n• Zebu Mini Cows & sheep \n• Roping Games \n• Milk Samples [𝘧𝘳𝘰𝘮 𝘙𝘰𝘺𝘢𝘭 𝘊𝘳𝘦𝘴𝘵 𝘋𝘢𝘪𝘳𝘺]\n• Giveaways [𝘵𝘪𝘤𝘬𝘦𝘵𝘴 𝘵𝘰 𝘵𝘩𝘦 𝘳𝘰𝘥𝘦𝘰 𝘪𝘯 𝘑𝘶𝘭𝘺]\nAnd for the first time\, we’re bringing in a large LED screen and sound system to the parking lot in Greeley\, so you can watch the full worship experience\, right outside! So if you’re game\, bring a lawn chair and post up outside for either morning service time. This will help free up some space in the auditorium\, and create a fun outdoor experience for those that would choose to do so. [𝘸𝘦𝘢𝘵𝘩𝘦𝘳 𝘱𝘦𝘳𝘮𝘪𝘵𝘵𝘪𝘯𝘨]\n\nThis day is about celebrating those in our agriculture community with a prayer of blessing\, and having a mountain of fun along the way. It’ll be a memorable day at church\, and one your friends would love an invite to.\n\nGreeley Campus // 9:00 & 10:30amWindsor Campus // 5:00pm\n
URL:https://wearegenerations.church/event/farm-fest-2026/
LOCATION:3600 W 22nd St\, Greeley\, CO\, 80634\, United States
CATEGORIES:All Church,Community
ATTACH;FMTTYPE=image/jpeg:https://wearegenerations.church/wp-content/uploads/2025/04/farm-fest-2026-title.jpg
END:VEVENT
BEGIN:VEVENT
DTSTART;TZID=America/Denver:20260503T103000
DTEND;TZID=America/Denver:20260503T113000
DTSTAMP:20260424T121502
CREATED:20250811T180149Z
LAST-MODIFIED:20260303T155935Z
UID:17433-1777804200-1777807800@wearegenerations.church
SUMMARY:Discover Generations
DESCRIPTION:Discover Generations is a casual one hour gathering designed to help you get connected to the heartbeat of our church. You’ll learn about our rhythms and values\, have a chance to connect with others on the same path as you\, and discover what the next step on your faith journey might be. \nWhether you’re brand new to the church and want to learn a little about who we are\, or you’ve been coming for a while and you’re ready to grow deeper\, Discover Generations is your first step toward finding connection and purpose at Generations Church. \nDiscover Generations takes place on the first Sunday of the month at 10:30am. Snacks and childcare provided! \nRegistration is not required\, but you can let us know you’re coming here! \n
URL:https://wearegenerations.church/event/discover-generations-2/
LOCATION:3600 W 22nd St\, Greeley\, CO\, 80634\, United States
CATEGORIES:All Church
ATTACH;FMTTYPE=image/jpeg:https://wearegenerations.church/wp-content/uploads/2025/08/dg2025_title.jpg
END:VEVENT
END:VCALENDAR