BEGIN:VCALENDAR
VERSION:2.0
PRODID:-//Generations Church - ECPv4.6//NONSGML v1.0//EN
CALSCALE:GREGORIAN
METHOD:PUBLISH
X-WR-CALNAME:Generations Church
X-ORIGINAL-URL:https://wearegenerations.church
X-WR-CALDESC:Events for Generations Church
BEGIN:VEVENT
DTSTART;TZID=America/Denver:20180429T104500
DTEND;TZID=America/Denver:20180429T130000
DTSTAMP:20260425T235222
CREATED:20180417T183333Z
LAST-MODIFIED:20180417T183333Z
UID:8742-1524998700-1525006800@wearegenerations.church
SUMMARY:College Cram Day
DESCRIPTION:\nFinals week can be rough. What helps? Free food.\n\n\nWorship at 10:45am | free pizza & wings at noon.\n\n\n \n\n\nYou’ll leave with a goodie bag of homemade snacks and a coffee gift card. \n\nText COLLEGE to 797979 to learn more.\n\n
URL:https://wearegenerations.church/event/college-cram-day/
LOCATION:3600 W 22nd St\, Greeley\, CO\, 80634\, United States
CATEGORIES:All Church
ATTACH;FMTTYPE=image/jpeg:https://wearegenerations.church/wp-content/uploads/2018/04/college_cram_web.jpg
END:VEVENT
BEGIN:VEVENT
DTSTART;TZID=America/Denver:20180429T160000
DTEND;TZID=America/Denver:20180429T173000
DTSTAMP:20260425T235222
CREATED:20170908T175855Z
LAST-MODIFIED:20180404T145020Z
UID:876-1525017600-1525023000@wearegenerations.church
SUMMARY:Next Steps 101 & 201
DESCRIPTION:\n\n\n\nOur Next Steps 101 & 201 classes are a two-part\, intentional plan to learning more about Generations Church\, and discovering how you can get involved in the life-changing work God is doing here. \n\n\n\n\n\n\n101 introduces who we are as a church and focuses on getting you up to speed about the vision of Generations. We’ll look at two of our four core values: Worship Faithfully and Connect Intentionally. \n\n\n201 goes deeper into the heartbeat of Generations. We’ll dive into our other two core values: Serve Sacrificially and Give Generously. \n\n\n\n\nEach class is 90 minutes\, and both classes are offered at the same time\, every other month. Snacks and childcare are provided. \n\n\n\n\n
URL:https://wearegenerations.church/event/growth-track-101/
LOCATION:3600 W 22nd St\, Greeley\, CO\, 80634\, United States
CATEGORIES:All Church
ATTACH;FMTTYPE=image/jpeg:https://wearegenerations.church/wp-content/uploads/2017/09/nextsteps_combined.jpg
END:VEVENT
END:VCALENDAR